BEGIN:VCALENDAR
VERSION:2.0
PRODID:-//Kearney Children&#039;s Museum - ECPv6.14.2//NONSGML v1.0//EN
CALSCALE:GREGORIAN
METHOD:PUBLISH
X-WR-CALNAME:Kearney Children&#039;s Museum
X-ORIGINAL-URL:https://kearneychildrensmuseum.org
X-WR-CALDESC:Events for Kearney Children&#039;s Museum
REFRESH-INTERVAL;VALUE=DURATION:PT1H
X-Robots-Tag:noindex
X-PUBLISHED-TTL:PT1H
BEGIN:VTIMEZONE
TZID:America/Chicago
BEGIN:DAYLIGHT
TZOFFSETFROM:-0600
TZOFFSETTO:-0500
TZNAME:CDT
DTSTART:20230312T080000
END:DAYLIGHT
BEGIN:STANDARD
TZOFFSETFROM:-0500
TZOFFSETTO:-0600
TZNAME:CST
DTSTART:20231105T070000
END:STANDARD
END:VTIMEZONE
BEGIN:VEVENT
DTSTART;TZID=America/Chicago:20230906T090000
DTEND;TZID=America/Chicago:20230906T100000
DTSTAMP:20260420T040506
CREATED:20230822T144133Z
LAST-MODIFIED:20230822T144133Z
UID:10000209-1693990800-1693994400@kearneychildrensmuseum.org
SUMMARY:Member Morning Mingle
DESCRIPTION:
URL:https://kearneychildrensmuseum.org/event/member-morning-mingle-2/
LOCATION:Kearney Area Children’s Museum\, 5827 4th Avenue\, Kearney\, NE\, 68845\, United States
END:VEVENT
BEGIN:VEVENT
DTSTART;TZID=America/Chicago:20230819T090000
DTEND;TZID=America/Chicago:20230819T110000
DTSTAMP:20260420T040506
CREATED:20230725T140935Z
LAST-MODIFIED:20230725T141332Z
UID:10000317-1692435600-1692442800@kearneychildrensmuseum.org
SUMMARY:Bubble Run
DESCRIPTION:
URL:https://kearneychildrensmuseum.org/event/bubble-run/
LOCATION:Yanney Heritage Park\, 2020 W 11th St\, Kearney\, 68845\, United States
END:VEVENT
BEGIN:VEVENT
DTSTART;TZID=America/Chicago:20230812T093000
DTEND;TZID=America/Chicago:20230812T113000
DTSTAMP:20260420T040506
CREATED:20220720T191302Z
LAST-MODIFIED:20230307T191350Z
UID:10000292-1691832600-1691839800@kearneychildrensmuseum.org
SUMMARY:Roadway Heroes
DESCRIPTION:
URL:https://kearneychildrensmuseum.org/event/roadway-heroes-2/
LOCATION:Buffalo Country Fairgrounds\, 3807 Avenue N\, Kearney\, 68847\, United States
ATTACH;FMTTYPE=image/png:https://kearneychildrensmuseum.org/wp-content/uploads/2022/07/Roadway-Heroes-2023-1.png
END:VEVENT
BEGIN:VEVENT
DTSTART;TZID=America/Chicago:20230710T100000
DTEND;TZID=America/Chicago:20230710T120000
DTSTAMP:20260420T040506
CREATED:20230630T205210Z
LAST-MODIFIED:20230630T205311Z
UID:10000316-1688983200-1688990400@kearneychildrensmuseum.org
SUMMARY:Super Mario for a Day - Crane River Theater
DESCRIPTION:Follow Princess Peach\, Bowser\, and\, of course\, Mario\, in traveling across the Mushroom Kingdom. Step inside the screen and create your own Mario Bros. character\, race through Bowser’s Castle\, and discover what it truly means to “power up” in this one-day class that is sure to amaze. Buckle up\, it’s “Niiiiiintendo! Wahoo!” Special Goodie Bag included.\n \n\nParents must be back by 11:45 to watch a short performance! \n\n \n\nThis camp takes place at the Kearney Area Children’s Museum.\nChildren do not need a lunch but please bring a water bottle.\n\n\n\n\n \n\n\n\n\nAges Allowed:\n4 – 6\n\n\n\n\n  \nRegister Here\n 
URL:https://kearneychildrensmuseum.org/event/super-mario-for-a-day-crane-river-theater/
LOCATION:Kearney Area Children’s Museum\, 5827 4th Avenue\, Kearney\, NE\, 68845\, United States
ATTACH;FMTTYPE=image/png:https://kearneychildrensmuseum.org/wp-content/uploads/2023/06/Mario-for-a-Day-2023.png
END:VEVENT
BEGIN:VEVENT
DTSTART;TZID=America/Chicago:20230523T080000
DTEND;TZID=America/Chicago:20230809T150000
DTSTAMP:20260420T040506
CREATED:20230322T194429Z
LAST-MODIFIED:20230322T195632Z
UID:10000315-1684828800-1691593200@kearneychildrensmuseum.org
SUMMARY:Summer Camps
DESCRIPTION:We’ve got an awesome line up of summer fun! Take a look and select your favorites. See you this summer!
URL:https://kearneychildrensmuseum.org/event/summer-camps/
LOCATION:Kearney Area Children’s Museum\, 5827 4th Avenue\, Kearney\, NE\, 68845\, United States
ATTACH;FMTTYPE=image/png:https://kearneychildrensmuseum.org/wp-content/uploads/2023/03/Summer-Camps-Flyer-2023-1.png
END:VEVENT
BEGIN:VEVENT
DTSTART;TZID=America/Chicago:20230522T160000
DTEND;TZID=America/Chicago:20230522T190000
DTSTAMP:20260420T040506
CREATED:20221228T221757Z
LAST-MODIFIED:20230410T144935Z
UID:10000201-1684771200-1684782000@kearneychildrensmuseum.org
SUMMARY:Free Family Night - Birthday Celebration!
DESCRIPTION:Join us as we celebrate our birthday! We will offering free admission from 4-7pm\, fun activities from 5-7pm and serving birthday cake at 5:15pm. \nAlia was joyful and enthusiastic young woman\, who loved her family\, spending time with friends\, and enjoyed being around children. She was blessed by being a considerate\, loving\, and caring person. Alia was only 16 years old when she was tragically killed in an automobile accident on June 24\, 1997. Alia Joy\, daughter of Essam and Barbara Arram\, would be 41 years old on the 27th of May this year. \nThe Alia Arram Memorial Building was established in 2010 in honor of her life. She would have been very proud to have her name associated with the Kearney Area Children’s Museum. KACM has been in The Alia Arram Memorial Building for the past twelve years and this facility couldn’t have been possible without the generous donations of the Arram family and many others.
URL:https://kearneychildrensmuseum.org/event/free-family-night-birthday-celebration/
LOCATION:NE
ATTACH;FMTTYPE=image/png:https://kearneychildrensmuseum.org/wp-content/uploads/2022/12/May-Free-Night-Date-Change.png
END:VEVENT
BEGIN:VEVENT
DTSTART;TZID=America/Chicago:20230512T180000
DTEND;TZID=America/Chicago:20230512T203000
DTSTAMP:20260420T040506
CREATED:20221228T192204Z
LAST-MODIFIED:20221228T222747Z
UID:10000301-1683914400-1683923400@kearneychildrensmuseum.org
SUMMARY:Kids Night Out - Superhero Night
DESCRIPTION:POW! BAM! There is a superhero in all of us! Dress up as your favorite superhero and get ready to have a blast with your friends learning how to make a positive impact. 
URL:https://kearneychildrensmuseum.org/event/kids-night-out-superhero-night/
LOCATION:Kearney Area Children’s Museum\, 5827 4th Avenue\, Kearney\, NE\, 68845\, United States
ATTACH;FMTTYPE=image/png:https://kearneychildrensmuseum.org/wp-content/uploads/2022/12/May-KNO-2023.png
END:VEVENT
BEGIN:VEVENT
DTSTART;TZID=America/Chicago:20230503T090000
DTEND;TZID=America/Chicago:20230503T100000
DTSTAMP:20260420T040506
CREATED:20221228T201339Z
LAST-MODIFIED:20230111T174932Z
UID:10000306-1683104400-1683108000@kearneychildrensmuseum.org
SUMMARY:Members Morning Mingle
DESCRIPTION:Start the morning off with coffee\, chai\, breakfast treats and enjoy VIP time with other Members! \nFor Members Only. This is a Free Member Perk.
URL:https://kearneychildrensmuseum.org/event/members-morning-mingle-4/
LOCATION:Kearney Area Children’s Museum\, 5827 4th Avenue\, Kearney\, NE\, 68845\, United States
ATTACH;FMTTYPE=image/png:https://kearneychildrensmuseum.org/wp-content/uploads/2022/12/Morning-Mingle-2023.png
END:VEVENT
BEGIN:VEVENT
DTSTART;TZID=America/Chicago:20230419T160000
DTEND;TZID=America/Chicago:20230419T190000
DTSTAMP:20260420T040506
CREATED:20221228T213031Z
LAST-MODIFIED:20230407T134147Z
UID:10000200-1681920000-1681930800@kearneychildrensmuseum.org
SUMMARY:Free Family Night
DESCRIPTION:Join us for our Stuffie Repair Clinic! Got a favorite stuffie that needs a check up? Bring them in to meet the doctors from 5-6:30pm and then play in the Museum.
URL:https://kearneychildrensmuseum.org/event/free-family-night/
LOCATION:Kearney Area Children’s Museum\, 5827 4th Avenue\, Kearney\, NE\, 68845\, United States
ATTACH;FMTTYPE=image/png:https://kearneychildrensmuseum.org/wp-content/uploads/2023/04/April-Free-Family-Fun-Night-Flyer-2023.png
END:VEVENT
END:VCALENDAR